BEGIN:VCALENDAR
VERSION:2.0
PRODID:-//TDS 4x4 - ECPv6.15.17.1//NONSGML v1.0//EN
CALSCALE:GREGORIAN
METHOD:PUBLISH
X-WR-CALNAME:TDS 4x4
X-ORIGINAL-URL:https://tds4x4.com
X-WR-CALDESC:Events for TDS 4x4
REFRESH-INTERVAL;VALUE=DURATION:PT1H
X-Robots-Tag:noindex
X-PUBLISHED-TTL:PT1H
BEGIN:VTIMEZONE
TZID:America/Los_Angeles
BEGIN:DAYLIGHT
TZOFFSETFROM:-0800
TZOFFSETTO:-0700
TZNAME:PDT
DTSTART:20230312T100000
END:DAYLIGHT
BEGIN:STANDARD
TZOFFSETFROM:-0700
TZOFFSETTO:-0800
TZNAME:PST
DTSTART:20231105T090000
END:STANDARD
BEGIN:DAYLIGHT
TZOFFSETFROM:-0800
TZOFFSETTO:-0700
TZNAME:PDT
DTSTART:20240310T100000
END:DAYLIGHT
BEGIN:STANDARD
TZOFFSETFROM:-0700
TZOFFSETTO:-0800
TZNAME:PST
DTSTART:20241103T090000
END:STANDARD
BEGIN:DAYLIGHT
TZOFFSETFROM:-0800
TZOFFSETTO:-0700
TZNAME:PDT
DTSTART:20250309T100000
END:DAYLIGHT
BEGIN:STANDARD
TZOFFSETFROM:-0700
TZOFFSETTO:-0800
TZNAME:PST
DTSTART:20251102T090000
END:STANDARD
END:VTIMEZONE
BEGIN:VEVENT
DTSTART;TZID=America/Los_Angeles:20241010T080000
DTEND;TZID=America/Los_Angeles:20241014T200000
DTSTAMP:20260423T160443
CREATED:20240911T223911Z
LAST-MODIFIED:20240924T155339Z
UID:9933-1728547200-1728936000@tds4x4.com
SUMMARY:Mojave Road 44th Rendezvous
DESCRIPTION:
URL:https://tds4x4.com/event/mojave-road-44th-rendezvous/
LOCATION:Goffs
CATEGORIES:Off-road Event,Public,Trail Run
ORGANIZER;CN="Mojave Association":MAILTO:info@themojaveroad.org
END:VEVENT
BEGIN:VEVENT
DTSTART;TZID=America/Los_Angeles:20241016T190000
DTEND;TZID=America/Los_Angeles:20241016T210000
DTSTAMP:20260423T160443
CREATED:20240909T232225Z
LAST-MODIFIED:20241107T234708Z
UID:9890-1729105200-1729112400@tds4x4.com
SUMMARY:General Meeting - October
DESCRIPTION:Guests are welcome to attend regular club meetings and runs. We will be in the meeting room closest to the street on north end of the building.\nIf you are interested in joining our video call\, please email us for details.
URL:https://tds4x4.com/event/general-meeting-october/
LOCATION:Elks Lodge\, 1633 Woodside Ave\, Lakeside\, CA\, 92040\, United States
CATEGORIES:Meeting-General,Public
ATTACH;FMTTYPE=image/webp:https://tds4x4.com/wp-content/uploads/20210512_124047_HDR-scaled-1.webp
ORGANIZER;CN="TDS Four Wheel Drive Club":MAILTO:info@tds4x4.com
END:VEVENT
BEGIN:VEVENT
DTSTART;VALUE=DATE:20241025
DTEND;VALUE=DATE:20241028
DTSTAMP:20260423T160443
CREATED:20240919T224936Z
LAST-MODIFIED:20240924T155303Z
UID:10041-1729814400-1730073599@tds4x4.com
SUMMARY:Tim Augustin's Overland Run
DESCRIPTION:
URL:https://tds4x4.com/event/tim-augustins-overland-run/
LOCATION:CA
CATEGORIES:Off-road Event,Public,Trail Run
ORGANIZER;CN="Jon Gray":MAILTO:Grayjon19@yahoo.com
END:VEVENT
END:VCALENDAR