BEGIN:VCALENDAR
VERSION:2.0
PRODID:-//TDS 4x4 - ECPv6.15.17.1//NONSGML v1.0//EN
CALSCALE:GREGORIAN
METHOD:PUBLISH
X-WR-CALNAME:TDS 4x4
X-ORIGINAL-URL:https://tds4x4.com
X-WR-CALDESC:Events for TDS 4x4
REFRESH-INTERVAL;VALUE=DURATION:PT1H
X-Robots-Tag:noindex
X-PUBLISHED-TTL:PT1H
BEGIN:VTIMEZONE
TZID:America/Los_Angeles
BEGIN:DAYLIGHT
TZOFFSETFROM:-0800
TZOFFSETTO:-0700
TZNAME:PDT
DTSTART:20240310T100000
END:DAYLIGHT
BEGIN:STANDARD
TZOFFSETFROM:-0700
TZOFFSETTO:-0800
TZNAME:PST
DTSTART:20241103T090000
END:STANDARD
BEGIN:DAYLIGHT
TZOFFSETFROM:-0800
TZOFFSETTO:-0700
TZNAME:PDT
DTSTART:20250309T100000
END:DAYLIGHT
BEGIN:STANDARD
TZOFFSETFROM:-0700
TZOFFSETTO:-0800
TZNAME:PST
DTSTART:20251102T090000
END:STANDARD
BEGIN:DAYLIGHT
TZOFFSETFROM:-0800
TZOFFSETTO:-0700
TZNAME:PDT
DTSTART:20260308T100000
END:DAYLIGHT
BEGIN:STANDARD
TZOFFSETFROM:-0700
TZOFFSETTO:-0800
TZNAME:PST
DTSTART:20261101T090000
END:STANDARD
END:VTIMEZONE
BEGIN:VEVENT
DTSTART;TZID=America/Los_Angeles:20250716T190000
DTEND;TZID=America/Los_Angeles:20250716T203000
DTSTAMP:20260422T092705
CREATED:20250609T062844Z
LAST-MODIFIED:20250609T062844Z
UID:11371-1752692400-1752697800@tds4x4.com
SUMMARY:TDS General Meeting - July
DESCRIPTION:You’re invited to join our General Membership Meeting (3rd Wednesday of the month\, 7p at Lakeside Elk’s Lodge\, Lakeside\, CA)\, where you can learn more about how we give back to the off-road community\, our trail runs and other events and especially how to become a member of the longest running membership off-road clubs – Tierra Del Sol (TDS).\n \nGuests are encouraged and welcomed! 
URL:https://tds4x4.com/event/tds-general-meeting-july/
LOCATION:Elks Lodge\, 1633 Woodside Ave\, Lakeside\, CA\, 92040\, United States
CATEGORIES:Meeting-General,Public
END:VEVENT
BEGIN:VEVENT
DTSTART;TZID=America/Los_Angeles:20250726T080000
DTEND;TZID=America/Los_Angeles:20250726T170000
DTSTAMP:20260422T092705
CREATED:20250604T045010Z
LAST-MODIFIED:20250722T211320Z
UID:11328-1753516800-1753549200@tds4x4.com
SUMMARY:Coastal Cruise
DESCRIPTION:Join TDS for a fun day cruising up the San Diego coastline\n  \nWith the weather so hot in the desert\, this is a great time to have some fun cruising up the coastline. \nAny questions see the contact information on the flyer. \nSee you soon!
URL:https://tds4x4.com/event/coastal-cruise/
LOCATION:CA
CATEGORIES:Public,TDS Event,Trail Run
END:VEVENT
END:VCALENDAR