BEGIN:VCALENDAR
VERSION:2.0
PRODID:-//TDS 4x4 - ECPv6.15.17.1//NONSGML v1.0//EN
CALSCALE:GREGORIAN
METHOD:PUBLISH
X-WR-CALNAME:TDS 4x4
X-ORIGINAL-URL:https://tds4x4.com
X-WR-CALDESC:Events for TDS 4x4
REFRESH-INTERVAL;VALUE=DURATION:PT1H
X-Robots-Tag:noindex
X-PUBLISHED-TTL:PT1H
BEGIN:VTIMEZONE
TZID:America/Los_Angeles
BEGIN:DAYLIGHT
TZOFFSETFROM:-0800
TZOFFSETTO:-0700
TZNAME:PDT
DTSTART:20240310T100000
END:DAYLIGHT
BEGIN:STANDARD
TZOFFSETFROM:-0700
TZOFFSETTO:-0800
TZNAME:PST
DTSTART:20241103T090000
END:STANDARD
BEGIN:DAYLIGHT
TZOFFSETFROM:-0800
TZOFFSETTO:-0700
TZNAME:PDT
DTSTART:20250309T100000
END:DAYLIGHT
BEGIN:STANDARD
TZOFFSETFROM:-0700
TZOFFSETTO:-0800
TZNAME:PST
DTSTART:20251102T090000
END:STANDARD
BEGIN:DAYLIGHT
TZOFFSETFROM:-0800
TZOFFSETTO:-0700
TZNAME:PDT
DTSTART:20260308T100000
END:DAYLIGHT
BEGIN:STANDARD
TZOFFSETFROM:-0700
TZOFFSETTO:-0800
TZNAME:PST
DTSTART:20261101T090000
END:STANDARD
END:VTIMEZONE
BEGIN:VEVENT
DTSTART;TZID=America/Los_Angeles:20250125T080000
DTEND;TZID=America/Los_Angeles:20250125T170000
DTSTAMP:20260423T070453
CREATED:20241108T000704Z
LAST-MODIFIED:20241113T235956Z
UID:11029-1737792000-1737824400@tds4x4.com
SUMMARY:CORVA Truckhaven Challenge
DESCRIPTION:CORVA Club Contact: \nAmy Volmer \nbigdogv@gmail.com \n760-277-0883
URL:https://tds4x4.com/event/truckhaven-challenge/
LOCATION:Truckhaven
CATEGORIES:Off-road Event,Public,Trail Run
END:VEVENT
END:VCALENDAR